BEGIN:VCALENDAR
PRODID:-//eluceo/ical//2.0/EN
VERSION:2.0
CALSCALE:GREGORIAN
BEGIN:VEVENT
UID:06cf5fdb72770598d0562b1d62be12d5
DTSTAMP:20260424T131107Z
SUMMARY:Forschung und High Tech am Beispiel des PSI
DESCRIPTION:Talare: Prof. Dr. Joel Mesot\, CEO PSI
URL:https://rotary-brb.ch/sv/agenda/show/60881
DTSTART;TZID=Europe/Zurich:20160425T120000
DTEND;TZID=Europe/Zurich:20160425T133000
LOCATION:Grand Casino Baden Au Premier
CATEGORIES:Rotary
END:VEVENT
BEGIN:VTIMEZONE
TZID:Europe/Zurich
BEGIN:DAYLIGHT
DTSTART:20160425T120000
TZNAME:CEST
TZOFFSETTO:+0200
TZOFFSETFROM:+0200
END:DAYLIGHT
END:VTIMEZONE
END:VCALENDAR
