BEGIN:VCALENDAR
PRODID:-//eluceo/ical//2.0/EN
VERSION:2.0
CALSCALE:GREGORIAN
BEGIN:VEVENT
UID:9d6d3a8dfc2a9aff555580c769437b8b
DTSTAMP:20260424T232204Z
SUMMARY:Birnenbrotverkauf
DESCRIPTION:Webbplats: https://www.dein.baden.ch/de/winterzauber
URL:https://rotary-brb.ch/sv/agenda/show/135514
DTSTART;TZID=Europe/Zurich:20211208T120000
DTEND;TZID=Europe/Zurich:20211208T200000
LOCATION:Weihnachtsmarkt Baden\, Stadttor
CATEGORIES:Rotary
END:VEVENT
BEGIN:VTIMEZONE
TZID:Europe/Zurich
BEGIN:STANDARD
DTSTART:20211208T120000
TZNAME:CET
TZOFFSETTO:+0100
TZOFFSETFROM:+0100
END:STANDARD
END:VTIMEZONE
END:VCALENDAR
