BEGIN:VCALENDAR
PRODID:-//eluceo/ical//2.0/EN
VERSION:2.0
CALSCALE:GREGORIAN
BEGIN:VEVENT
UID:d250d7a7b2d290347e1247bf47b8b3c5
DTSTAMP:20260421T085506Z
SUMMARY:Konzertbesuch TRAFO Music
DESCRIPTION:TrafoMusic präsentiert: Max Lässer & Das Überlandorchester U
 nerhörte Schweizer Alpenmusik - eine mitreissende Auseinandersetzung unse
 re musikalischen Tradition mit den Einflüssen zeitgenössischer Musik. Es
  erwartet Euch ein spektakuläres Programm mit einem speziellen Highlight\
 nRelatore/i: Roberto Scheuer
URL:https://rotary-brb.ch/it/agenda/show/23987
DTSTART;TZID=Europe/Zurich:20121103T200000
DTEND;TZID=Europe/Zurich:20121103T200000
LOCATION:Trafo Baden
CATEGORIES:Rotary
END:VEVENT
BEGIN:VTIMEZONE
TZID:Europe/Zurich
BEGIN:STANDARD
DTSTART:20121103T200000
TZNAME:CET
TZOFFSETTO:+0100
TZOFFSETFROM:+0100
END:STANDARD
END:VTIMEZONE
END:VCALENDAR
