BEGIN:VCALENDAR
PRODID:-//eluceo/ical//2.0/EN
VERSION:2.0
CALSCALE:GREGORIAN
BEGIN:VEVENT
UID:c9548774c6aa92f1fd4abf5ccaf1e7aa
DTSTAMP:20260421T083814Z
SUMMARY:Biergartenabend (Verschiebedatum) 
DESCRIPTION:Verschiebedatum falls am 30.07. Schlechtwetter. Wir treffen uns
  auf ein frisches Müller Bier im Badener Biergarten. Die erste Runde ist 
 offeriert vom Präsidenten und Brauerei Chef Felix Meier.\nRelatore/i: Fel
 ix Meier
URL:https://rotary-brb.ch/it/agenda/show/23960
DTSTART;TZID=Europe/Zurich:20120806T183000
DTEND;TZID=Europe/Zurich:20120806T183000
LOCATION:Biergarten
CATEGORIES:Rotary
END:VEVENT
BEGIN:VTIMEZONE
TZID:Europe/Zurich
BEGIN:DAYLIGHT
DTSTART:20120806T183000
TZNAME:CEST
TZOFFSETTO:+0200
TZOFFSETFROM:+0200
END:DAYLIGHT
END:VTIMEZONE
END:VCALENDAR
