BEGIN:VCALENDAR
PRODID:-//eluceo/ical//2.0/EN
VERSION:2.0
CALSCALE:GREGORIAN
BEGIN:VEVENT
UID:b9987490bbd8bea76a9b48b7e63e9a7c
DTSTAMP:20260419T192144Z
SUMMARY:Referat Kunstvermittlung
DESCRIPTION:Frau Sara Smidt\, Leiterin Kunstvermittlung\, Kunstmuseum Thun\
 , refriert über das Thema Kunstvermittlung.  Liebe Rotarierinnen Liebe Ro
 tarier Sehr gerne lade ich Euch mit Euren Partnern/Innen zum nächsten Anl
 ass ein. Frau Sara Smidt vom Kunstmuseum Thun\, wird zum Thema "Kunstvermi
 ttlung" referieren. Bitte meldet Euch bei meiner Assistentin an/ab\, beste
 n Dank. Herzliche Grüsse Sepp Meier Präsident\nFyrirlesari(ar): Sara Smi
 dt
URL:https://rotary-brb.ch/is/agenda/show/19428
DTSTART;TZID=Europe/Zurich:20111121T120000
DTEND;TZID=Europe/Zurich:20111121T140000
LOCATION:Grand Casino Baden Au Premiers
CATEGORIES:Rotary
END:VEVENT
BEGIN:VTIMEZONE
TZID:Europe/Zurich
BEGIN:STANDARD
DTSTART:20111121T120000
TZNAME:CET
TZOFFSETTO:+0100
TZOFFSETFROM:+0100
END:STANDARD
END:VTIMEZONE
END:VCALENDAR
