BEGIN:VCALENDAR
PRODID:-//eluceo/ical//2.0/EN
VERSION:2.0
CALSCALE:GREGORIAN
BEGIN:VEVENT
UID:e4de71da2f598cb43c02c7faf66042c3
DTSTAMP:20260419T175625Z
SUMMARY:Gemeindienst-Anlass Birebrot backen
DESCRIPTION:Wir backen die Birebrote für den Gemeindienst. Ein Anlass für
  die ganze Familie.  Anmeldeformular Birebrotanlass hier herunterladen -->
URL:https://rotary-brb.ch/is/agenda/show/19426
DTSTART;TZID=Europe/Zurich:20111119T083000
DTEND;TZID=Europe/Zurich:20111119T103000
LOCATION:Mosers Backparadies\, Neuenhoferstrasse\, Baden
CATEGORIES:Rotary
END:VEVENT
BEGIN:VTIMEZONE
TZID:Europe/Zurich
BEGIN:STANDARD
DTSTART:20111119T083000
TZNAME:CET
TZOFFSETTO:+0100
TZOFFSETFROM:+0100
END:STANDARD
END:VTIMEZONE
END:VCALENDAR
