BEGIN:VCALENDAR
PRODID:-//eluceo/ical//2.0/EN
VERSION:2.0
CALSCALE:GREGORIAN
BEGIN:VEVENT
UID:f7582fe4ce3de1f3153cf5a2876298c9
DTSTAMP:20260419T145734Z
SUMMARY:Klassifikationsreferat 
DESCRIPTION:Das Klassifikationsreferat von Christian Brönnimann ist verbun
 den mit der Betriebsbesichtigung der Firma Dectris.\nFyrirlesari(ar): Chri
 stian Brönnimann
URL:https://rotary-brb.ch/is/agenda/show/19423
DTSTART;TZID=Europe/Zurich:20111107T170000
DTEND;TZID=Europe/Zurich:20111107T190000
LOCATION:Firma Dectris
CATEGORIES:Rotary
END:VEVENT
BEGIN:VTIMEZONE
TZID:Europe/Zurich
BEGIN:STANDARD
DTSTART:20111107T170000
TZNAME:CET
TZOFFSETTO:+0100
TZOFFSETFROM:+0100
END:STANDARD
END:VTIMEZONE
END:VCALENDAR
