BEGIN:VCALENDAR
PRODID:-//eluceo/ical//2.0/EN
VERSION:2.0
CALSCALE:GREGORIAN
BEGIN:VEVENT
UID:5dd18421086a1f0b7df2da5e9c938a1b
DTSTAMP:20260419T132725Z
SUMMARY:Präsenzlunch
DESCRIPTION:
URL:https://rotary-brb.ch/is/agenda/show/19422
DTSTART;TZID=Europe/Zurich:20111107T120000
DTEND;TZID=Europe/Zurich:20111107T140000
LOCATION:Grand Casino Baden Au Premiers
CATEGORIES:Rotary
END:VEVENT
BEGIN:VTIMEZONE
TZID:Europe/Zurich
BEGIN:STANDARD
DTSTART:20111107T120000
TZNAME:CET
TZOFFSETTO:+0100
TZOFFSETFROM:+0100
END:STANDARD
END:VTIMEZONE
END:VCALENDAR
