BEGIN:VCALENDAR
PRODID:-//eluceo/ical//2.0/EN
VERSION:2.0
CALSCALE:GREGORIAN
BEGIN:VEVENT
UID:9e8bd335dfeb2f375682322448ee40cf
DTSTAMP:20260421T085152Z
SUMMARY:Lunch
DESCRIPTION:
URL:https://rotary-brb.ch/fr/agenda/show/54142
DTSTART;TZID=Europe/Zurich:20150824T120000
DTEND;TZID=Europe/Zurich:20150824T120000
LOCATION:Grand Casino Baden Au Premier
CATEGORIES:Rotary
END:VEVENT
BEGIN:VTIMEZONE
TZID:Europe/Zurich
BEGIN:DAYLIGHT
DTSTART:20150824T120000
TZNAME:CEST
TZOFFSETTO:+0200
TZOFFSETFROM:+0200
END:DAYLIGHT
END:VTIMEZONE
END:VCALENDAR
