BEGIN:VCALENDAR
PRODID:-//eluceo/ical//2.0/EN
VERSION:2.0
CALSCALE:GREGORIAN
BEGIN:VEVENT
UID:51587f880659090cf3999f34d2392380
DTSTAMP:20260421T093031Z
SUMMARY:Lunch mit Referat "Erwachsenenschutzrecht"
DESCRIPTION:Conférencier(s): Regula Jäggi
URL:https://rotary-brb.ch/fr/agenda/show/54119
DTSTART;TZID=Europe/Zurich:20151116T120000
DTEND;TZID=Europe/Zurich:20151116T120000
LOCATION:Grand Casino Baden Au Premier
CATEGORIES:Rotary
END:VEVENT
BEGIN:VTIMEZONE
TZID:Europe/Zurich
BEGIN:STANDARD
DTSTART:20151116T120000
TZNAME:CET
TZOFFSETTO:+0100
TZOFFSETFROM:+0100
END:STANDARD
END:VTIMEZONE
END:VCALENDAR
