BEGIN:VCALENDAR
PRODID:-//eluceo/ical//2.0/EN
VERSION:2.0
CALSCALE:GREGORIAN
BEGIN:VEVENT
UID:77f1c66715384f7aee8b27961989cfef
DTSTAMP:20260419T132526Z
SUMMARY:Lunch
DESCRIPTION:
URL:https://rotary-brb.ch/fr/agenda/show/54105
DTSTART;TZID=Europe/Zurich:20151005T120000
DTEND;TZID=Europe/Zurich:20151005T120000
LOCATION:Grand Casino Baden Au Premier
CATEGORIES:Rotary
END:VEVENT
BEGIN:VTIMEZONE
TZID:Europe/Zurich
BEGIN:DAYLIGHT
DTSTART:20151005T120000
TZNAME:CEST
TZOFFSETTO:+0200
TZOFFSETFROM:+0200
END:DAYLIGHT
END:VTIMEZONE
END:VCALENDAR
