BEGIN:VCALENDAR
PRODID:-//eluceo/ical//2.0/EN
VERSION:2.0
CALSCALE:GREGORIAN
BEGIN:VEVENT
UID:067dfde48b9ff581eb772582470d5ecc
DTSTAMP:20260421T093958Z
SUMMARY:Refererat Reformprojekt Altersvorsorge 2020 des Bundesrates
DESCRIPTION:Conférencier(s): Ruth Humbel Näf
URL:https://rotary-brb.ch/fr/agenda/show/47947
DTSTART;TZID=Europe/Zurich:20150323T120000
DTEND;TZID=Europe/Zurich:20150323T120000
LOCATION:Grand Casino Baden Au Premier
CATEGORIES:Rotary
END:VEVENT
BEGIN:VTIMEZONE
TZID:Europe/Zurich
BEGIN:STANDARD
DTSTART:20150323T120000
TZNAME:CET
TZOFFSETTO:+0100
TZOFFSETFROM:+0100
END:STANDARD
END:VTIMEZONE
END:VCALENDAR
