BEGIN:VCALENDAR
PRODID:-//eluceo/ical//2.0/EN
VERSION:2.0
CALSCALE:GREGORIAN
BEGIN:VEVENT
UID:3a92bc8a585cfbf401bd8442ddd2c38f
DTSTAMP:20260424T122805Z
SUMMARY:Verkauf Birebrote
DESCRIPTION:
URL:https://rotary-brb.ch/fr/agenda/show/23998
DTSTART;TZID=Europe/Zurich:20121212T000000
DTEND;TZID=Europe/Zurich:20121212T000000
LOCATION:-
CATEGORIES:Rotary
END:VEVENT
BEGIN:VTIMEZONE
TZID:Europe/Zurich
BEGIN:STANDARD
DTSTART:20121212T000000
TZNAME:CET
TZOFFSETTO:+0100
TZOFFSETFROM:+0100
END:STANDARD
END:VTIMEZONE
END:VCALENDAR
