BEGIN:VCALENDAR
PRODID:-//eluceo/ical//2.0/EN
VERSION:2.0
CALSCALE:GREGORIAN
BEGIN:VEVENT
UID:ca03fe365e0d8d5368eac220ef0c2c10
DTSTAMP:20260422T174214Z
SUMMARY: Abendanlass am Stadtfest
DESCRIPTION:Conférencier(s): Roberto Scheuer
URL:https://rotary-brb.ch/fr/agenda/show/23972
DTSTART;TZID=Europe/Zurich:20120820T000000
DTEND;TZID=Europe/Zurich:20120820T000000
LOCATION:Festbeiz 
CATEGORIES:Rotary
END:VEVENT
BEGIN:VTIMEZONE
TZID:Europe/Zurich
BEGIN:DAYLIGHT
DTSTART:20120820T000000
TZNAME:CEST
TZOFFSETTO:+0200
TZOFFSETFROM:+0200
END:DAYLIGHT
END:VTIMEZONE
END:VCALENDAR
