BEGIN:VCALENDAR
PRODID:-//eluceo/ical//2.0/EN
VERSION:2.0
CALSCALE:GREGORIAN
BEGIN:VEVENT
UID:013b681a37e4652f74ece0e9350f3f0c
DTSTAMP:20260421T151306Z
SUMMARY:Adventsmarkt (ARWO)  Aufbau
DESCRIPTION:Site internet: https://www.badener-adventsmarkt.ch/
URL:https://rotary-brb.ch/fr/agenda/show/135508
DTSTART;TZID=Europe/Zurich:20211204T051500
DTEND;TZID=Europe/Zurich:20211204T081500
LOCATION:Baden
CATEGORIES:Rotary
END:VEVENT
BEGIN:VTIMEZONE
TZID:Europe/Zurich
BEGIN:STANDARD
DTSTART:20211204T051500
TZNAME:CET
TZOFFSETTO:+0100
TZOFFSETFROM:+0100
END:STANDARD
END:VTIMEZONE
END:VCALENDAR
