BEGIN:VCALENDAR
PRODID:-//eluceo/ical//2.0/EN
VERSION:2.0
CALSCALE:GREGORIAN
BEGIN:VEVENT
UID:f2d508b45635926ea8caf23187df0cb9
DTSTAMP:20260421T184257Z
SUMMARY:Plauder-Dinner mit Partner
DESCRIPTION:
URL:https://rotary-brb.ch/fr/agenda/show/103823
DTSTART;TZID=Europe/Zurich:20200629T183000
DTEND;TZID=Europe/Zurich:20200629T220000
LOCATION:Grand Casino Baden Au Premier
CATEGORIES:Rotary
END:VEVENT
BEGIN:VTIMEZONE
TZID:Europe/Zurich
BEGIN:DAYLIGHT
DTSTART:20200629T183000
TZNAME:CEST
TZOFFSETTO:+0200
TZOFFSETFROM:+0200
END:DAYLIGHT
END:VTIMEZONE
END:VCALENDAR
