BEGIN:VCALENDAR
PRODID:-//eluceo/ical//2.0/EN
VERSION:2.0
CALSCALE:GREGORIAN
BEGIN:VEVENT
UID:6fe0a651cf255c52893a9fb692ee28fd
DTSTAMP:20260424T160415Z
SUMMARY:Lebensfreudelunch "Essen & Trinken"
DESCRIPTION:Orador(es): Roberto Scheuer
URL:https://rotary-brb.ch/es/agenda/show/24033
DTSTART;TZID=Europe/Zurich:20130624T120000
DTEND;TZID=Europe/Zurich:20130624T120000
LOCATION:Grand Casino Baden Au Premiers
CATEGORIES:Rotary
END:VEVENT
BEGIN:VTIMEZONE
TZID:Europe/Zurich
BEGIN:DAYLIGHT
DTSTART:20130624T120000
TZNAME:CEST
TZOFFSETTO:+0200
TZOFFSETFROM:+0200
END:DAYLIGHT
END:VTIMEZONE
END:VCALENDAR
