BEGIN:VCALENDAR
PRODID:-//eluceo/ical//2.0/EN
VERSION:2.0
CALSCALE:GREGORIAN
BEGIN:VEVENT
UID:e70638958f6663441cfce2fe5fdaff43
DTSTAMP:20260423T104716Z
SUMMARY:Plauderlunch
DESCRIPTION:Plauderlunsch\nOrador(es): Josef Meier
URL:https://rotary-brb.ch/es/agenda/show/23733
DTSTART;TZID=Europe/Zurich:20120611T120000
DTEND;TZID=Europe/Zurich:20120611T140000
LOCATION:Grand Casino Baden Au Premiers
CATEGORIES:Rotary
END:VEVENT
BEGIN:VTIMEZONE
TZID:Europe/Zurich
BEGIN:DAYLIGHT
DTSTART:20120611T120000
TZNAME:CEST
TZOFFSETTO:+0200
TZOFFSETFROM:+0200
END:DAYLIGHT
END:VTIMEZONE
END:VCALENDAR
