BEGIN:VCALENDAR
PRODID:-//eluceo/ical//2.0/EN
VERSION:2.0
CALSCALE:GREGORIAN
BEGIN:VEVENT
UID:ebf7ccedb9aff402e4e8d1157a0c370a
DTSTAMP:20260421T084407Z
SUMMARY:Suppentag RC Wettingen
DESCRIPTION:Sitio web: https://rc-wettingen.ch/de/agenda/show/199867
URL:https://rotary-brb.ch/es/agenda/show/205343
DTSTART;TZID=Europe/Zurich:20251106T113000
DTEND;TZID=Europe/Zurich:20251106T150000
LOCATION:Rathausplatz Wettingen
CATEGORIES:Rotary
END:VEVENT
BEGIN:VTIMEZONE
TZID:Europe/Zurich
BEGIN:STANDARD
DTSTART:20251106T113000
TZNAME:CET
TZOFFSETTO:+0100
TZOFFSETFROM:+0100
END:STANDARD
END:VTIMEZONE
END:VCALENDAR
