BEGIN:VCALENDAR
PRODID:-//eluceo/ical//2.0/EN
VERSION:2.0
CALSCALE:GREGORIAN
BEGIN:VEVENT
UID:39214428578b11f369973c7e189c2690
DTSTAMP:20260425T130719Z
SUMMARY:Gemeindienst-Anlass\, Birebrot einpacken
DESCRIPTION:Die Birebrote bekommen die Verpackung\, Säckli und Bändeli.
URL:https://rotary-brb.ch/es/agenda/show/19432
DTSTART;TZID=Europe/Zurich:20111205T173000
DTEND;TZID=Europe/Zurich:20111205T193000
LOCATION:Mosers Backparadies\, Neuenhoferstrasse\, Baden
CATEGORIES:Rotary
END:VEVENT
BEGIN:VTIMEZONE
TZID:Europe/Zurich
BEGIN:STANDARD
DTSTART:20111205T173000
TZNAME:CET
TZOFFSETTO:+0100
TZOFFSETFROM:+0100
END:STANDARD
END:VTIMEZONE
END:VCALENDAR
