BEGIN:VCALENDAR
PRODID:-//eluceo/ical//2.0/EN
VERSION:2.0
CALSCALE:GREGORIAN
BEGIN:VEVENT
UID:003d37cdb5da349fa437008e844a11c9
DTSTAMP:20260423T170523Z
SUMMARY:Governorbesuch Ursula Schöpfer
DESCRIPTION:
URL:https://rotary-brb.ch/es/agenda/show/135506
DTSTART;TZID=Europe/Zurich:20211129T120000
DTEND;TZID=Europe/Zurich:20211129T133000
LOCATION:Grand Casino Baden Au Premier\, Haselstrasse 2\, 5400 Baden
CATEGORIES:Rotary
END:VEVENT
BEGIN:VTIMEZONE
TZID:Europe/Zurich
BEGIN:STANDARD
DTSTART:20211129T120000
TZNAME:CET
TZOFFSETTO:+0100
TZOFFSETFROM:+0100
END:STANDARD
END:VTIMEZONE
END:VCALENDAR
