BEGIN:VCALENDAR
PRODID:-//eluceo/ical//2.0/EN
VERSION:2.0
CALSCALE:GREGORIAN
BEGIN:VEVENT
UID:f9a6d3a507bc9987fde0676b500b7143
DTSTAMP:20260422T235559Z
SUMMARY:Plauderlunch
DESCRIPTION:
URL:https://rotary-brb.ch/en/agenda/show/20790
DTSTART;TZID=Europe/Zurich:20120206T120000
DTEND;TZID=Europe/Zurich:20120206T140000
LOCATION:Grand Casino Baden Au Premiers
CATEGORIES:Rotary
END:VEVENT
BEGIN:VTIMEZONE
TZID:Europe/Zurich
BEGIN:STANDARD
DTSTART:20120206T120000
TZNAME:CET
TZOFFSETTO:+0100
TZOFFSETFROM:+0100
END:STANDARD
END:VTIMEZONE
END:VCALENDAR
