BEGIN:VCALENDAR
PRODID:-//eluceo/ical//2.0/EN
VERSION:2.0
CALSCALE:GREGORIAN
BEGIN:VEVENT
UID:a1571b441f904c4d898440423839cad0
DTSTAMP:20260423T013455Z
SUMMARY:Plauderlunch
DESCRIPTION:Website: https://www.grandcasinobaden.ch/
URL:https://rotary-brb.ch/en/agenda/show/155005
DTSTART;TZID=Europe/Zurich:20230109T120000
DTEND;TZID=Europe/Zurich:20230109T133000
LOCATION:Grand Casino Baden Au Premier\, Haselstrasse 2\, 5400 Baden
CATEGORIES:Rotary
END:VEVENT
BEGIN:VTIMEZONE
TZID:Europe/Zurich
BEGIN:STANDARD
DTSTART:20230109T120000
TZNAME:CET
TZOFFSETTO:+0100
TZOFFSETFROM:+0100
END:STANDARD
END:VTIMEZONE
END:VCALENDAR
