BEGIN:VCALENDAR
PRODID:-//eluceo/ical//2.0/EN
VERSION:2.0
CALSCALE:GREGORIAN
BEGIN:VEVENT
UID:06f5c85c172caf54830368f67c602ba8
DTSTAMP:20260426T035614Z
SUMMARY:Plauderlunch
DESCRIPTION:Referenten/innen: Felix Meier
URL:https://rotary-brb.ch/de/agenda/show/25551
DTSTART;TZID=Europe/Zurich:20120806T120000
DTEND;TZID=Europe/Zurich:20120806T140000
LOCATION:Grand Casino Baden Au Premiers
CATEGORIES:Rotary
END:VEVENT
BEGIN:VTIMEZONE
TZID:Europe/Zurich
BEGIN:DAYLIGHT
DTSTART:20120806T120000
TZNAME:CEST
TZOFFSETTO:+0200
TZOFFSETFROM:+0200
END:DAYLIGHT
END:VTIMEZONE
END:VCALENDAR
