BEGIN:VCALENDAR
PRODID:-//eluceo/ical//2.0/EN
VERSION:2.0
CALSCALE:GREGORIAN
BEGIN:VEVENT
UID:075c62235ce8a04074372df7b52009f4
DTSTAMP:20260421T113504Z
SUMMARY:Metzgete im Jägerhuus Hertenstein
DESCRIPTION:
URL:https://rotary-brb.ch/de/agenda/show/23983
DTSTART;TZID=Europe/Zurich:20121022T000000
DTEND;TZID=Europe/Zurich:20121022T000000
LOCATION:Jägerhuus Hertenstein
CATEGORIES:Rotary
END:VEVENT
BEGIN:VTIMEZONE
TZID:Europe/Zurich
BEGIN:DAYLIGHT
DTSTART:20121022T000000
TZNAME:CEST
TZOFFSETTO:+0200
TZOFFSETFROM:+0200
END:DAYLIGHT
END:VTIMEZONE
END:VCALENDAR
