BEGIN:VCALENDAR
PRODID:-//eluceo/ical//2.0/EN
VERSION:2.0
CALSCALE:GREGORIAN
BEGIN:VEVENT
UID:5c3706571019cb4eeae6e61983321903
DTSTAMP:20260425T222310Z
SUMMARY:Besuch bei Naturspielwald
DESCRIPTION:Ort: Besammlung Parkplatz Baldegg\, Baden Dauer: bis ca. 20.00 
 Uhr Ablauf: . Fussmarsch zum Waldsofa (ca. 10 Minuten) . Präsentation Ver
 ein naturspielwald . Apéro Tenü: der Anlass findet bei jeder Witterung s
 tatt. Bitte waldtaugliches Schuhwerk und Regenschutz mitnehmen Anmeldung: 
 per Fax oder Mail an Guido Moser Fax: +41 56 204 44 89 Mail: guido.moser@b
 ackparadies.ch Anmelde- schluss:\nReferenten/innen: Guido Moser
URL:https://rotary-brb.ch/de/agenda/show/23735
DTSTART;TZID=Europe/Zurich:20120618T183000
DTEND;TZID=Europe/Zurich:20120618T203000
LOCATION:Besammlung Parkplatz Baldegg\, Baden
CATEGORIES:Rotary
END:VEVENT
BEGIN:VTIMEZONE
TZID:Europe/Zurich
BEGIN:DAYLIGHT
DTSTART:20120618T183000
TZNAME:CEST
TZOFFSETTO:+0200
TZOFFSETFROM:+0200
END:DAYLIGHT
END:VTIMEZONE
END:VCALENDAR
