BEGIN:VCALENDAR
PRODID:-//eluceo/ical//2.0/EN
VERSION:2.0
CALSCALE:GREGORIAN
BEGIN:VEVENT
UID:d779dd48cc2b61f89e6f3a0eb54e6624
DTSTAMP:20260425T222952Z
SUMMARY:Kunstsammler
DESCRIPTION:Motivation einer Privatperson Kunst zu sammeln (Sammler noch ni
 cht definitiv festgelegt)  Anlass zu "Kunst" (mit Partnern)
URL:https://rotary-brb.ch/de/agenda/show/20797
DTSTART;TZID=Europe/Zurich:20120227T183000
DTEND;TZID=Europe/Zurich:20120227T203000
LOCATION:Grand Casino Baden Au Premiers
CATEGORIES:Rotary
END:VEVENT
BEGIN:VTIMEZONE
TZID:Europe/Zurich
BEGIN:STANDARD
DTSTART:20120227T183000
TZNAME:CET
TZOFFSETTO:+0100
TZOFFSETFROM:+0100
END:STANDARD
END:VTIMEZONE
END:VCALENDAR
