BEGIN:VCALENDAR
PRODID:-//eluceo/ical//2.0/EN
VERSION:2.0
CALSCALE:GREGORIAN
BEGIN:VEVENT
UID:eb8289353d20395d478987e7719411a8
DTSTAMP:20260425T222853Z
SUMMARY:Aufgaben einer Galerie
DESCRIPTION:Anlass zu "Kunst" (mit Partnern)\nReferenten/innen: Bob von Ors
 ouw
URL:https://rotary-brb.ch/de/agenda/show/20789
DTSTART;TZID=Europe/Zurich:20120130T120000
DTEND;TZID=Europe/Zurich:20120130T140000
LOCATION:Grand Casino Baden Au Premiers
CATEGORIES:Rotary
END:VEVENT
BEGIN:VTIMEZONE
TZID:Europe/Zurich
BEGIN:STANDARD
DTSTART:20120130T120000
TZNAME:CET
TZOFFSETTO:+0100
TZOFFSETFROM:+0100
END:STANDARD
END:VTIMEZONE
END:VCALENDAR
