BEGIN:VCALENDAR
PRODID:-//eluceo/ical//2.0/EN
VERSION:2.0
CALSCALE:GREGORIAN
BEGIN:VEVENT
UID:eb419f530cc08aa985bee5f8b97a3068
DTSTAMP:20260425T222518Z
SUMMARY:Gemeindienst-Anlass "Birebrotverkauf"
DESCRIPTION:Die Birebrote werden ab 12:00 Uhr am Weihnachtsmarkt in der Alt
 stadt Baden verkauft. 
URL:https://rotary-brb.ch/de/agenda/show/19434
DTSTART;TZID=Europe/Zurich:20111207T120000
DTEND;TZID=Europe/Zurich:20111207T140000
LOCATION:Altstadt\, Baden
CATEGORIES:Rotary
END:VEVENT
BEGIN:VTIMEZONE
TZID:Europe/Zurich
BEGIN:STANDARD
DTSTART:20111207T120000
TZNAME:CET
TZOFFSETTO:+0100
TZOFFSETFROM:+0100
END:STANDARD
END:VTIMEZONE
END:VCALENDAR
