BEGIN:VCALENDAR
PRODID:-//eluceo/ical//2.0/EN
VERSION:2.0
CALSCALE:GREGORIAN
BEGIN:VEVENT
UID:9f00aff3f578e182306fd5e2bd40cee9
DTSTAMP:20260421T084731Z
SUMMARY:Besuch des Governors
DESCRIPTION:Der Governor Rt. Rocco Olgiati ist bei uns zu Besuch!!  Liebe R
 otarierinnen Liebe Rotarier Wie angekündigt\, besucht uns unser Governor\
 , Rocco Olgiati am Montag 31. Oktober 2011. Das Dinner findet um 1900 Uhr 
 in unserem Clublokal statt. Ich würde mich freuen\, wenn wir eine hohe Pr
 äsenz hätten\, danke für Euer Kommen.  Herzliche Grüsse Sepp Meier Pr
 äsident\nReferenten/innen: Josef Meier
URL:https://rotary-brb.ch/de/agenda/show/19419
DTSTART;TZID=Europe/Zurich:20111031T191500
DTEND;TZID=Europe/Zurich:20111031T211500
LOCATION:Grand Casino Baden Au Premiers
CATEGORIES:Rotary
END:VEVENT
BEGIN:VTIMEZONE
TZID:Europe/Zurich
BEGIN:STANDARD
DTSTART:20111031T191500
TZNAME:CET
TZOFFSETTO:+0100
TZOFFSETFROM:+0100
END:STANDARD
END:VTIMEZONE
END:VCALENDAR
