BEGIN:VCALENDAR
PRODID:-//eluceo/ical//2.0/EN
VERSION:2.0
CALSCALE:GREGORIAN
BEGIN:VEVENT
UID:db6ac59ad9e80862095c790cad9249cc
DTSTAMP:20260425T222332Z
SUMMARY:Präsenzlunch
DESCRIPTION:Vorstellen der neuen Homepage unseres Clubs. Basis ist das Rota
 ry Distrikt CVS (Clubverwaltungssystem. Einführung für Clubmitglieder Ei
 nführung für Dienstchefs Übersicht für Administratoren Die ALTE Homepa
 ge wird am 17. Oktober 2011 abgeschaltet.  Alle wesentlichen Informationen
  unseres Clubs werden nur noch auf der neuen Homepage verfügbar sein.\nRe
 ferenten/innen: Paul Vogler
URL:https://rotary-brb.ch/de/agenda/show/19413
DTSTART;TZID=Europe/Zurich:20111017T120000
DTEND;TZID=Europe/Zurich:20111017T140000
LOCATION:Grand Casino Baden Au Premiers
CATEGORIES:Rotary
END:VEVENT
BEGIN:VTIMEZONE
TZID:Europe/Zurich
BEGIN:DAYLIGHT
DTSTART:20111017T120000
TZNAME:CEST
TZOFFSETTO:+0200
TZOFFSETFROM:+0200
END:DAYLIGHT
END:VTIMEZONE
END:VCALENDAR
