BEGIN:VCALENDAR
PRODID:-//eluceo/ical//2.0/EN
VERSION:2.0
CALSCALE:GREGORIAN
BEGIN:VEVENT
UID:b66bdf9b0da5600a00203fc140766872
DTSTAMP:20260424T000408Z
SUMMARY:Gastvortrag „Die Mission Nagra“
DESCRIPTION:Webseite: https://www.grandcasinobaden.ch/
URL:https://rotary-brb.ch/de/agenda/show/155106
DTSTART;TZID=Europe/Zurich:20230116T120000
DTEND;TZID=Europe/Zurich:20230116T133000
LOCATION:Grand Casino Baden Au Premier\, Haselstrasse 2\, 5400 Baden
CATEGORIES:Rotary
END:VEVENT
BEGIN:VTIMEZONE
TZID:Europe/Zurich
BEGIN:STANDARD
DTSTART:20230116T120000
TZNAME:CET
TZOFFSETTO:+0100
TZOFFSETFROM:+0100
END:STANDARD
END:VTIMEZONE
END:VCALENDAR
