BEGIN:VCALENDAR
PRODID:-//eluceo/ical//2.0/EN
VERSION:2.0
CALSCALE:GREGORIAN
BEGIN:VEVENT
UID:36101360df8b9089a040dcae75d9a1b1
DTSTAMP:20260423T190229Z
SUMMARY:Plauderlunch
DESCRIPTION:Webseite: https://www.grandcasinobaden.ch/
URL:https://rotary-brb.ch/de/agenda/show/153651
DTSTART;TZID=Europe/Zurich:20221219T120000
DTEND;TZID=Europe/Zurich:20221219T133000
LOCATION:Grand Casino Baden Au Premier\, Haselstrasse 2\, 5400 Baden
CATEGORIES:Rotary
END:VEVENT
BEGIN:VTIMEZONE
TZID:Europe/Zurich
BEGIN:STANDARD
DTSTART:20221219T120000
TZNAME:CET
TZOFFSETTO:+0100
TZOFFSETFROM:+0100
END:STANDARD
END:VTIMEZONE
END:VCALENDAR
