BEGIN:VCALENDAR
PRODID:-//eluceo/ical//2.0/EN
VERSION:2.0
CALSCALE:GREGORIAN
BEGIN:VEVENT
UID:61373ae145224177f9fe616fe9923ba6
DTSTAMP:20260423T220921Z
SUMMARY:Plauderlunch
DESCRIPTION:Webseite: https://www.grandcasinobaden.ch/
URL:https://rotary-brb.ch/de/agenda/show/135517
DTSTART;TZID=Europe/Zurich:20211227T120000
DTEND;TZID=Europe/Zurich:20211227T133000
LOCATION:Grand Casino Baden Au Premier\, Haselstrasse 2\, 5400 Baden
CATEGORIES:Rotary
END:VEVENT
BEGIN:VTIMEZONE
TZID:Europe/Zurich
BEGIN:STANDARD
DTSTART:20211227T120000
TZNAME:CET
TZOFFSETTO:+0100
TZOFFSETFROM:+0100
END:STANDARD
END:VTIMEZONE
END:VCALENDAR
