BEGIN:VCALENDAR
PRODID:-//eluceo/ical//2.0/EN
VERSION:2.0
CALSCALE:GREGORIAN
BEGIN:VEVENT
UID:8c26ca15bcb9a8a1f1fc5a4ae9bcad97
DTSTAMP:20260423T234150Z
SUMMARY:Birnenbrot verpacken
DESCRIPTION:Webseite: https://www.backparadies.ch/filialen/gebenstorf/
URL:https://rotary-brb.ch/de/agenda/show/135511
DTSTART;TZID=Europe/Zurich:20211206T173000
DTEND;TZID=Europe/Zurich:20211218T183000
LOCATION:Moser’s Backparadies\, Wambistr. 4\, Gebenstorf
CATEGORIES:Rotary
END:VEVENT
BEGIN:VTIMEZONE
TZID:Europe/Zurich
BEGIN:STANDARD
DTSTART:20211206T173000
TZNAME:CET
TZOFFSETTO:+0100
TZOFFSETFROM:+0100
END:STANDARD
END:VTIMEZONE
END:VCALENDAR
